BEGIN:VCALENDAR
VERSION:2.0
PRODID:-//ChamberMaster//Event Calendar 2.0//EN
METHOD:PUBLISH
X-PUBLISHED-TTL:P3D
REFRESH-INTERVAL:P3D
CALSCALE:GREGORIAN
BEGIN:VEVENT
DTSTART:20260427T223000Z
DTEND:20260430T233000Z
X-MICROSOFT-CDO-ALLDAYEVENT:FALSE
SUMMARY:Tomah Parks & Recreation Department ~ Public Information Meeting
DESCRIPTION:The Tomah Parks and Recreation Department will be hosting a public information session to discuss the 5-year Comprehensive Outdoor Recreation Plan (CORP). The public information meeting will allow residents to provide feedback on priorities for parks\, trails\, and open spaces. The meeting will be at 5:30 PM-6:30pm on Monday April 27\, 2026\, at the Recreation Staton located at 316 Arthur St. The meeting will begin with a 15-minute presentation. The Parks and Recreation Commission monthly meeting will follow at 6:30pm. Refreshments will be available.
X-ALT-DESC;FMTTYPE=text/html:The Tomah Parks and Recreation Department will be hosting a public information session to discuss the 5-year Comprehensive Outdoor Recreation Plan (CORP). The public information meeting will allow residents to provide feedback on priorities for parks\, trails\, and open spaces. The meeting will be at 5:30 PM-6:30pm on Monday April 27\, 2026\, at the Recreation Staton located at 316 Arthur St. The meeting will begin with a 15-minute presentation. The Parks and Recreation Commission monthly meeting will follow at 6:30pm. Refreshments will be available.
LOCATION:316 Arthur Street Recreation Station Tomah
UID:e.85.32748
SEQUENCE:3
DTSTAMP:20260422T084209Z
URL:https://calendar.tomahwisconsindev.com/events/details/tomah-parks-recreation-department-public-information-meeting-32748
END:VEVENT

END:VCALENDAR
