BEGIN:VCALENDAR
VERSION:2.0
PRODID:-//ChamberMaster//Event Calendar 2.0//EN
METHOD:PUBLISH
X-PUBLISHED-TTL:P3D
REFRESH-INTERVAL:P3D
CALSCALE:GREGORIAN
BEGIN:VEVENT
DTSTART:20260509T140000Z
DTEND:20260509T200000Z
X-MICROSOFT-CDO-ALLDAYEVENT:FALSE
SUMMARY:Sip & Shop Spring Market
DESCRIPTION:Double Barrel Bar is hosting a Sip & Shop Vendor Event as a fundraiser for The Caring Closet in Tomah.\n\nRaffle baskets\, drink specials\, and lunch with The Loaded Bun food truck.\n\nThere will also be a Diaper Drive for The Caring Closet - Get an additional raffle ticket for every pack of diapers or wipes donated.
X-ALT-DESC;FMTTYPE=text/html:Double Barrel Bar is hosting a Sip &amp\; Shop Vendor Event as a fundraiser for The Caring Closet in Tomah.<br />\nRaffle baskets\, drink specials\, and lunch with The Loaded Bun food truck.<br />\nThere will also be a Diaper Drive for The Caring Closet - Get an additional raffle ticket for every pack of diapers or wipes donated.<br />\n&nbsp\;
LOCATION:
UID:e.85.32755
SEQUENCE:3
DTSTAMP:20260425T040341Z
URL:https://calendar.tomahwisconsindev.com/events/details/sip-shop-spring-market-32755
END:VEVENT

END:VCALENDAR
