BEGIN:VCALENDAR
VERSION:2.0
PRODID:-//ChamberMaster//Event Calendar 2.0//EN
METHOD:PUBLISH
X-PUBLISHED-TTL:P3D
REFRESH-INTERVAL:P3D
CALSCALE:GREGORIAN
BEGIN:VEVENT
DTSTART:20260430T230000Z
DTEND:20260501T010000Z
X-MICROSOFT-CDO-ALLDAYEVENT:FALSE
SUMMARY:Paint a Doormat
DESCRIPTION:Come to Recreation Station to craft with us! Paint a doormat to take home. All materials will be included in the $25 fee. This class will be held at Recreation Station in Tomah ~ 316 Arthur Street. Register at https://tomah.recdesk.com/
X-ALT-DESC;FMTTYPE=text/html:Come to Recreation Station to craft with us! Paint a doormat to take home. All materials will be included in the $25 fee. This class will be held at Recreation Station in Tomah ~ 316 Arthur Street. Register at https://tomah.recdesk.com/
LOCATION:Recreation Station 316 Arthur Street Tomah
UID:e.85.32747
SEQUENCE:3
DTSTAMP:20260424T081223Z
URL:https://calendar.tomahwisconsindev.com/events/details/paint-a-doormat-32747
END:VEVENT

END:VCALENDAR
