BEGIN:VCALENDAR
VERSION:2.0
PRODID:-//ChamberMaster//Event Calendar 2.0//EN
METHOD:PUBLISH
X-PUBLISHED-TTL:P3D
REFRESH-INTERVAL:P3D
CALSCALE:GREGORIAN
BEGIN:VEVENT
DTSTART;VALUE=DATE:20260510
DTEND;VALUE=DATE:20260511
TRANSP:TRANSPARENT
X-MICROSOFT-CDO-ALLDAYEVENT:TRUE
SUMMARY:Mother's Day Brunch at McCoy's Community Center
DESCRIPTION:Mom deserves the best! Start with Brunch at McCoy's Community Center $32 adults\, $15 kids 6-13\, youngsters 5 and under are free.\n\nChoose between 3 seating times: 10 am\, 12 pm\, or 2 pm. \n\nMenu includes: \n\n	Prime Rib Carving station\n	Made to order omelets\n	Belgian waffles\n	French toast\n	Sausage links\n	Bacon\n	Roasted potatoes\n	Chicken tenders\n	French fries\n	Full salad bar\n	Charcuterie Boards\n	Yogurt with fresh fruit\n	Dessert bar\n\nReserve your seat at https://www.eventbrite.com/e/mothers-day-brunch-tickets-1985598016117?aff=ebdsoporgprofile
X-ALT-DESC;FMTTYPE=text/html:Mom deserves the best! Start with Brunch at McCoy&#39\;s Community Center $32 adults\, $15 kids 6-13\, youngsters 5 and under are free.<br />\nChoose between 3 seating times: 10 am\, 12 pm\, or 2 pm.&nbsp\;<br />\nMenu includes:&nbsp\;\n<ul>\n	<li>Prime Rib Carving station</li>\n	<li>Made to order omelets</li>\n	<li>Belgian waffles</li>\n	<li>French toast</li>\n	<li>Sausage links</li>\n	<li>Bacon</li>\n	<li>Roasted potatoes</li>\n	<li>Chicken tenders</li>\n	<li>French fries</li>\n	<li>Full salad bar</li>\n	<li>Charcuterie Boards</li>\n	<li>Yogurt with fresh fruit</li>\n	<li>Dessert bar</li>\n</ul>\nReserve your seat at&nbsp\;https://www.eventbrite.com/e/mothers-day-brunch-tickets-1985598016117?aff=ebdsoporgprofile
LOCATION:
UID:e.85.32752
SEQUENCE:3
DTSTAMP:20260424T001533Z
URL:https://calendar.tomahwisconsindev.com/events/details/mother-s-day-brunch-at-mccoy-s-community-center-32752
END:VEVENT

END:VCALENDAR
