BEGIN:VCALENDAR
VERSION:2.0
PRODID:-//ChamberMaster//Event Calendar 2.0//EN
METHOD:PUBLISH
X-PUBLISHED-TTL:P3D
REFRESH-INTERVAL:P3D
CALSCALE:GREGORIAN
BEGIN:VEVENT
DTSTART;VALUE=DATE:20260502
DTEND;VALUE=DATE:20260503
TRANSP:TRANSPARENT
X-MICROSOFT-CDO-ALLDAYEVENT:TRUE
SUMMARY:Kentucky Derby Viewing Party
DESCRIPTION:Run for the Roses right here at Whitetail Ridge. Join us for  the 152nd running of the Kentucky Derby from 2 - 7 pm on May 2\, 2026. Must be 18 years or up to participate. Dress to impress and enjoy the fastest 2-minutes in sports! We'll have food and beverages for sale\, a derby hat contest \, and hobby horse races. Grab your friends\, pick your favorite thoroughbred\, and enjoy an afternoon of southern charm and Derby-day fun!
X-ALT-DESC;FMTTYPE=text/html:Run for the Roses right here at Whitetail Ridge. Join us for&nbsp\; the 152nd running of the Kentucky Derby from 2 - 7 pm on May 2\, 2026. Must be 18 years or up to participate. Dress to impress and enjoy the fastest 2-minutes in sports! We&#39\;ll have food and beverages for sale\, a derby hat contest \, and hobby horse races. Grab your friends\, pick your favorite thoroughbred\, and enjoy an afternoon of southern charm and Derby-day fun!
LOCATION:
UID:e.85.32751
SEQUENCE:3
DTSTAMP:20260424T001752Z
URL:https://calendar.tomahwisconsindev.com/events/details/kentucky-derby-viewing-party-32751
END:VEVENT

END:VCALENDAR
