BEGIN:VCALENDAR
VERSION:2.0
PRODID:-//ChamberMaster//Event Calendar 2.0//EN
METHOD:PUBLISH
X-PUBLISHED-TTL:P3D
REFRESH-INTERVAL:P3D
CALSCALE:GREGORIAN
BEGIN:VEVENT
DTSTART;VALUE=DATE:20260620
DTEND;VALUE=DATE:20260621
TRANSP:TRANSPARENT
X-MICROSOFT-CDO-ALLDAYEVENT:TRUE
SUMMARY:Down & Dirty Trail Run
DESCRIPTION:Join us at Whitetail Ridge for the 12th running of the Down & Dirty Trail Run. Tackle the mud during this 1.5-mile obstacle run featuring more than 10 mud pits and barriers. This is fun for the entire family! \n\nEarly registration starts May 1 and runs until June 16: $35 military/DoD\, $40 public rate. \n\nLate registration is June 17 - June 20: $40 military/DoD\, $45 public rate. Kids 5 years and under run free. \n\nOnline registration is at https://www.eventbrite.com/e/down-and-dirty-trail-run-tickets-1987621468317?aff=ebdsoporgprofile\n\nVisit https://mccoy.armymwr.com/calendar/event/down-and-dirty-trail-run/7264384/79719 for more information.
X-ALT-DESC;FMTTYPE=text/html:Join us at Whitetail Ridge for the 12th running of the Down &amp\; Dirty Trail Run. Tackle the mud during this 1.5-mile obstacle run featuring more than 10 mud pits and barriers. This is fun for the entire family!&nbsp\;<br />\nEarly registration starts May 1 and runs until June 16: $35 military/DoD\, $40 public rate.&nbsp\;<br />\nLate registration is June 17 - June 20: $40 military/DoD\, $45 public rate. Kids 5 years and under run free.&nbsp\;<br />\nOnline registration is at&nbsp\;https://www.eventbrite.com/e/down-and-dirty-trail-run-tickets-1987621468317?aff=ebdsoporgprofile<br />\nVisit&nbsp\;https://mccoy.armymwr.com/calendar/event/down-and-dirty-trail-run/7264384/79719 for more information.
LOCATION:
UID:e.85.32750
SEQUENCE:3
DTSTAMP:20260424T001306Z
URL:https://calendar.tomahwisconsindev.com/events/details/down-dirty-trail-run-32750
END:VEVENT

END:VCALENDAR
