BEGIN:VCALENDAR
VERSION:2.0
PRODID:-//ChamberMaster//Event Calendar 2.0//EN
METHOD:PUBLISH
X-PUBLISHED-TTL:P3D
REFRESH-INTERVAL:P3D
CALSCALE:GREGORIAN
BEGIN:VEVENT
DTSTART:20260425T140000Z
DTEND:20260425T170000Z
X-MICROSOFT-CDO-ALLDAYEVENT:FALSE
SUMMARY:Republican Nomination Signing
DESCRIPTION:Nominate your Republican candidates to be placed on the ballot for the November 2026 Election.  Several candidates are running for various positions: Congressman for 3rd and 7th Districts\, Governor\, Lt. Governor\, Attorney General Secretary of State\, and Treasurer.
X-ALT-DESC;FMTTYPE=text/html:Nominate your Republican candidates to be placed on the ballot for the November 2026 Election.&nbsp\; Several candidates are running for various positions: Congressman for 3rd and 7th Districts\, Governor\, Lt. Governor\, Attorney General Secretary of State\, and&nbsp\;Treasurer.
LOCATION:Coulee Real Estate Office 122 E. Oak Street Sparta\, WI 54655
UID:e.85.32749
SEQUENCE:3
DTSTAMP:20260422T004357Z
URL:http://calendar.tomahwisconsindev.com/events/details/republican-nomination-signing-32749
END:VEVENT

END:VCALENDAR
