BEGIN:VCALENDAR
VERSION:2.0
PRODID:-//ChamberMaster//Event Calendar 2.0//EN
METHOD:PUBLISH
X-PUBLISHED-TTL:P3D
REFRESH-INTERVAL:P3D
CALSCALE:GREGORIAN
BEGIN:VEVENT
DTSTART:20250417T170000Z
DTEND:20250417T180000Z
X-MICROSOFT-CDO-ALLDAYEVENT:FALSE
SUMMARY:Radiant Glow Esthetics Ribbon Cutting & Meet and Greet
DESCRIPTION:We are excited to officially welcome Radiant Glow Esthetics (RGE) to the Tomah Chamber family!\n\n \n\nJoin us at the Tomah Chamber office\, located at 310 N. Superior Ave.\, on Thursday\, April 17th\, from 12 - 1 pm. The Ribbon Cutting ceremony will commence at 12 pm.\n\n \n\nCome meet Alissa Moake\, the owner of RGE and a Licensed Esthetician\, who has recently relocated her business to the heart of downtown Tomah. While you're there\, learn about the variety of skin care and beauty services she provides\, enjoy some refreshments\, and enter for a chance to win an exciting basket giveaway!\n\n\n\nPlease join us in welcoming Radiant Glow Esthetics to the Tomah business community!
X-ALT-DESC;FMTTYPE=text/html:We are excited to officially welcome Radiant Glow Esthetics (RGE) to the Tomah Chamber family!<br />\n&nbsp\;<br />\nJoin us at the Tomah Chamber office\, located at 310 N. Superior Ave.\, on Thursday\, April 17th\, from 12 - 1 pm. The Ribbon Cutting ceremony will commence at 12 pm.<br />\n&nbsp\;<br />\nCome meet Alissa Moake\, the owner of RGE and a Licensed Esthetician\, who has recently relocated her business to the heart of downtown Tomah. While you&rsquo\;re there\, learn about the variety of skin care and beauty services she provides\, enjoy some refreshments\, and enter for a chance to win an exciting basket giveaway!<br />\n<br />\nPlease join us in welcoming Radiant Glow Esthetics to the Tomah business community!
LOCATION:Tomah Chamber Office (Across from Casey's Gas Station) 310 N. Superior Ave. Tomah\, WI 54660
UID:e.85.30002
SEQUENCE:3
DTSTAMP:20260422T024523Z
URL:http://calendar.tomahwisconsindev.com/events/details/radiant-glow-esthetics-ribbon-cutting-meet-and-greet-30002
END:VEVENT

END:VCALENDAR
