BEGIN:VCALENDAR
VERSION:2.0
PRODID:-//ChamberMaster//Event Calendar 2.0//EN
METHOD:PUBLISH
X-PUBLISHED-TTL:P3D
REFRESH-INTERVAL:P3D
CALSCALE:GREGORIAN
BEGIN:VEVENT
DTSTART:20260424T000000Z
DTEND:20260424T023000Z
X-MICROSOFT-CDO-ALLDAYEVENT:FALSE
SUMMARY:Hits Music Bingo
DESCRIPTION:Join us for Hits Music Bingo\, presented by Sound FX Entertainment! Every Thursday night at 7pm.
X-ALT-DESC;FMTTYPE=text/html:Join us for Hits Music Bingo\, presented by Sound FX Entertainment! Every Thursday night at 7pm.
LOCATION:Double Barrel Bar 10555 Freedom Road Tomah\, WI 54660
UID:e.85.32141
SEQUENCE:3
DTSTAMP:20260421T174001Z
URL:http://calendar.tomahwisconsindev.com/events/details/hits-music-bingo-32141
END:VEVENT

END:VCALENDAR
