BEGIN:VCALENDAR
VERSION:2.0
PRODID:-//ChamberMaster//Event Calendar 2.0//EN
METHOD:PUBLISH
X-PUBLISHED-TTL:P3D
REFRESH-INTERVAL:P3D
CALSCALE:GREGORIAN
BEGIN:VEVENT
DTSTART:20260421T140000Z
DTEND:20260421T160000Z
X-MICROSOFT-CDO-ALLDAYEVENT:FALSE
SUMMARY:FREE Kids Vision Screening Event - Tomah Lions Club
DESCRIPTION:FREE Vision Screening for Kids!\n\n\n\nThe Tomah Lions Club\, partnered with the Tomah Parks and Recreation Dept.\, is proud to offer FREE vision screenings for children aged 6 months and up!\n\n\n\nVision problems can often go unnoticed but early detection makes a big difference. Our quick and simple screening takes less than 5 minutes and can help identify potential concerns.  If a screening suggests a possible issue\, we recommend following up with a professional eye examination.\n\n\n\nDates & Times:\n\n	Tuesday\, April 21: 9:00 11:00 AM & 1:00 3:00 PM\n	Wednesday\, April 22: 10:00 AM 12:00 PM & 1:30 3:30 PM\n	Thursday\, April 23: 1:00 3:00 PM\n	During Open Play - No Appointment Needed\n\n Location:\n\n\n	Recreation Station\, 316 Arthur Street\, Tomah\n\nHelp give your child the clear vision they deserve stop by and take advantage of this free opportunity!
X-ALT-DESC;FMTTYPE=text/html:FREE Vision Screening for Kids!<br />\n<br />\nThe Tomah Lions Club\, partnered with the Tomah Parks and Recreation Dept.\, is proud to offer FREE vision screenings for children aged 6 months and up!<br />\n<br />\nVision problems can often go unnoticed&mdash\;but early detection makes a big difference. Our quick and simple screening takes less than 5 minutes and can help identify potential concerns.&nbsp\; If a screening suggests a possible issue\, we recommend following up with a professional eye examination.<br />\n<br />\n<u>Dates &amp\; Times:</u>\n<ul>\n	<li>Tuesday\, April 21: 9:00&ndash\;11:00 AM &amp\; 1:00&ndash\;3:00 PM</li>\n	<li>Wednesday\, April 22: 10:00 AM&ndash\;12:00 PM &amp\; 1:30&ndash\;3:30 PM</li>\n	<li>Thursday\, April 23: 1:00&ndash\;3:00 PM</li>\n	<li>During Open Play - No Appointment Needed</li>\n</ul>\n<u>&nbsp\;Location:</u>\n\n<ul>\n	<li>Recreation Station\, 316 Arthur Street\, Tomah</li>\n</ul>\nHelp give your child the clear vision they deserve&mdash\;stop by and take advantage of this free opportunity!
LOCATION:Recreation Station 316 Arthur Street Tomah\, WI 54660
UID:e.85.32129
SEQUENCE:3
DTSTAMP:20260421T015915Z
URL:http://calendar.tomahwisconsindev.com/events/details/free-kids-vision-screening-event-tomah-lions-club-32129
END:VEVENT

END:VCALENDAR
