BEGIN:VCALENDAR
VERSION:2.0
PRODID:-//ChamberMaster//Event Calendar 2.0//EN
METHOD:PUBLISH
X-PUBLISHED-TTL:P3D
REFRESH-INTERVAL:P3D
CALSCALE:GREGORIAN
BEGIN:VEVENT
DTSTART:20260510T190000Z
DTEND:20260510T220000Z
X-MICROSOFT-CDO-ALLDAYEVENT:FALSE
SUMMARY:ACT Auditions "Peter and the Starcatcher"
DESCRIPTION:A swashbuckling musical where the orphans dream up a fairytale full of pirates\, mermaids\, and treasure!
X-ALT-DESC;FMTTYPE=text/html:A swashbuckling musical where the orphans dream up a fairytale full of pirates\, mermaids\, and treasure!
LOCATION:Tomah Area Community Theatre 907 Kilbourn Avenue Tomah
UID:e.85.32138
SEQUENCE:3
DTSTAMP:20260419T132947Z
URL:http://calendar.tomahwisconsindev.com/events/details/act-auditions-peter-and-the-starcatcher-32138
END:VEVENT

END:VCALENDAR
